Workbook

Sheet Gath
A1: Šifra | B1: kol | D1: Red.br. | E1: Naziv
A2: VRYY1105K-M | B2: =BASIC_UNICOLOR!C2 -> 0 | E2: BASIC / UNICOLOR M
A3: VRYY1105B-M | B3: =BASIC_UNICOLOR!C3 -> 0 | E3: BASIC / UNICOLOR M
A4: VR14011L | B4: =BASIC_UNICOLOR!C4 -> 0 | E4: BASIC / UNICOLOR L
A5: VR14028L | B5: =BASIC_UNICOLOR!C5 -> 0 | E5: BASIC / UNICOLOR L
A6: VR14025XL | B6: =BASIC_UNICOLOR!C6 -> 0 | E6: BASIC / UNICOLOR L
A7: VR14031XL | B7: =BASIC_UNICOLOR!C7 -> 0 | E7: BASIC / UNICOLOR L
A8: VR12055XL | B8: =BASIC_UNICOLOR!C8 -> 0 | E8: BASIC / UNICOLOR L
A9: DT0006 | B9: =STANDARD!B6 -> 0 | C9: / | E9: POKLON VREĆICA STANDARD B
A10: DT0003 | B10: =STANDARD!B4 -> 0 | C10: / | E10: POKLON VREĆICA STANDARD L
A11: DT0002 | B11: =STANDARD!B3 -> 0 | C11: / | E11: POKLON VREĆICA STANDARD M
A12: DT0001 | B12: =STANDARD!B2 -> 0 | C12: / | E12: POKLON VREĆICA STANDARD S
A13: DT0005 | B13: =STANDARD!B5 -> 0 | C13: NE NLK | E13: POKLON VREĆICA STANDARD XL
A14: VR6887A | B14: =PREMIUM!C2 -> 0 | D14: 75 | E14: PREMIUM S
A15: VR797A | B15: =PREMIUM!C3 -> 0 | D15: 76 | E15: PREMIUM S
A16: VRGB135-S | B16: =PREMIUM!C4 -> 0 | D16: 77 | E16: PREMIUM S
A17: VR1973S | B17: =PREMIUM!C5 -> 0 | D17: 74 | E17: PREMIUM S
A18: VR1963S | B18: =PREMIUM!C6 -> 0 | D18: 73 | E18: PREMIUM S
A19: VR10-218-M | B19: =PREMIUM!C7 -> 0 | D19: 34 | E19: PREMIUM M
A20: VRKRH16209M | B20: =PREMIUM!C8 -> 0 | D20: 25 | E20: PREMIUM M
A21: VR6295B | B21: =PREMIUM!C9 -> 0 | D21: 30 | E21: PREMIUM M
A22: VRKRH9685M | B22: =PREMIUM!C10 -> 0 | D22: 28 | E22: PREMIUM M
A23: VRKRK2121M | B23: =PREMIUM!C11 -> 0 | D23: 27 | E23: PREMIUM M
A24: VRGB3328-M | B24: =PREMIUM!C12 -> 0 | D24: 22 | E24: PREMIUM M
A25: VRGB3551-M | B25: =PREMIUM!C13 -> 0 | D25: 24 | E25: PREMIUM M
... A86: VRKJM1058B | B86: =PREMIUM!C74 -> 0 | D86: 66 | E86: PREMIUM BOCA
A87: VR10-31301B | B87: =PREMIUM!C75 -> 0 | E87: PREMIUM BOCA
A88: VR10-31303B | B88: =PREMIUM!C76 -> 0 | E88: PREMIUM BOCA
A89: VR10-31304B | B89: =PREMIUM!C77 -> 0 | E89: PREMIUM BOCA
A90: VR10-31310B | B90: =PREMIUM!C78 -> 0 | E90: PREMIUM BOCA
A91: VR10-31319B | B91: =PREMIUM!C79 -> 0 | E91: PREMIUM BOCA
A92: VR10-31323B | B92: =PREMIUM!C80 -> 0 | E92: PREMIUM BOCA

Sheet STANDARD
A1: Slika | B1: NARUDŽBA | C1: MULLER | D1: Šifra | E1: Naziv | F1: Barcode | G1: VPC | H1: MPC
A2: MIX | C2: 119367 | D2: DT0001 | E2: POKLON VREĆICA STANDARD S | F2: 8595027438339 | G2: 2.8 | H2: 3.5
A3: MIX | C3: 119470 | D3: DT0002 | E3: POKLON VREĆICA STANDARD M | F3: 8595027438322 | G3: 4.4 | H3: 5.5
A4: MIX | C4: 119505 | D4: DT0003 | E4: POKLON VREĆICA STANDARD L | F4: 8595027438315 | G4: 7.12 | H4: 8.9
A5: MIX | C5: 2164639 (3) | D5: DT0005 | E5: POKLON VREĆICA STANDARD XL | F5: 8595027438353 | G5: 8.72 | H5: 10.9
A6: MIX | C6: 119535 | D6: DT0006 | E6: POKLON VREĆICA STANDARD B | F6: 8595027438346 | G6: 4.72 | H6: 5.9
B8: Mercator | C8: Mueller
A9: Standard BOCA | B9: 10142378 | C9: 119535
A10: Standard S | B10: 10142380 | C10: 119367
A11: Standard M | B11: 10142379 | C11: 119470
A12: Standard L | B12: 10142381 | C12: 119505
A13: Standard XL | B13: 10143621 | C13: 2164639 (3)

Sheet PREMIUM
A1: Red.br | B1: SLIKA | C1: NARUDŽBA | D1: Naručivanje | E1: Šifra | F1: Naziv | G1: Dimenzija (cm) | H1: Barcode | I1: VPC | J1: MPC
A2: 75 | B2: VR6887A | D2: Po 12 kom | E2: VR6887A | F2: PREMIUM S | G2: 11.5x14.5x6 | H2: 8595027438445 | I2: 0.76 | J2: 0.96
A3: 76 | B3: VR797A | D3: Po 12 kom | E3: VR797A | F3: PREMIUM S | G3: 11.5x14.5x6 | H3: 8595027438445 | I3: 0.76 | J3: 0.96
A4: 77 | B4: VRGB135-S | D4: Po 12 kom | E4: VRGB135-S | F4: PREMIUM S | G4: 11.5x14.5x6 | H4: 8595027438445 | I4: 0.76 | J4: 0.96
A5: 74 | B5: VR1973S | D5: Po 12 kom | E5: VR1973S | F5: PREMIUM S | G5: 12x16x6,5 | H5: 3858888689841 | I5: 0.76 | J5: 0.96
A6: 73 | B6: VR1963S | D6: Po 12 kom | E6: VR1963S | F6: PREMIUM S | G6: 12x16x6,5 | H6: 3858888689841 | I6: 0.76 | J6: 0.96
A7: 34 | B7: VR10-218-M | D7: Po 12 kom | E7: VR10-218-M | F7: PREMIUM M | G7: 18x23x10 | H7: 8595027438438 | I7: 1.11 | J7: 1.39
A8: 25 | B8: VRKRH16209M | D8: Po 12 kom | E8: VRKRH16209M | F8: PREMIUM M | G8: 18x23x10 | H8: 3858888689858 | I8: 1.11 | J8: 1.39
A9: 30 | B9: VR6295B | D9: Po 12 kom | E9: VR6295B | F9: PREMIUM M | G9: 18x23x10 | H9: 8595027438438 | I9: 1.11 | J9: 1.39
A10: 28 | B10: VRKRH9685M | D10: Po 12 kom | E10: VRKRH9685M | F10: PREMIUM M | G10: 18x23x10 | H10: 3858888689858 | I10: 1.11 | J10: 1.39
A11: 27 | B11: VRKRK2121M | D11: Po 12 kom | E11: VRKRK2121M | F11: PREMIUM M | G11: 18x23x10 | H11: 3858888689858 | I11: 1.11 | J11: 1.39
A12: 22 | B12: VRGB3328-M | D12: Po 12 kom | E12: VRGB3328-M | F12: PREMIUM M | G12: 18x23x10 | H12: 8595027438438 | I12: 1.11 | J12: 1.39
A13: 24 | B13: VRGB3551-M | D13: Po 12 kom | E13: VRGB3551-M | F13: PREMIUM M | G13: 18x23x10 | H13: 8595027438438 | I13: 1.11 | J13: 1.39
A14: 39 | B14: VRKRK2179M | D14: Po 12 kom | E14: VRKRK2179M | F14: PREMIUM M | G14: 18x23x10 | H14: 3858888689858 | I14: 1.11 | J14: 1.39
A15: 19 | B15: VRKRM2125M | D15: Po 12 kom | E15: VRKRM2125M | F15: PREMIUM M | G15: 18x23x10 | H15: 3858888689858 | I15: 1.11 | J15: 1.39
A16: 21 | B16: VRKRM2501M | D16: Po 12 kom | E16: VRKRM2501M | F16: PREMIUM M | G16: 18x23x10 | H16: 3858888689858 | I16: 1.11 | J16: 1.39
A17: 38 | B17: VR1973M | D17: Po 12 kom | E17: VR1973M | F17: PREMIUM M | G17: 18x23x10 | H17: 3858888689858 | I17: 1.11 | J17: 1.39
A18: 32 | B18: VR1963M | D18: Po 12 kom | E18: VR1963M | F18: PREMIUM M | G18: 18x23x10 | H18: 3858888689858 | I18: 1.11 | J18: 1.39
A19: 31 | B19: VR1113M | D19: Po 12 kom | E19: VR1113M | F19: PREMIUM M | G19: 18x23x10 | H19: 3858888689858 | I19: 1.11 | J19: 1.39
A20: 36 | B20: VR1114M | D20: Po 12 kom | E20: VR1114M | F20: PREMIUM M | G20: 18x23x10 | H20: 3858888689858 | I20: 1.11 | J20: 1.39
A21: 29 | B21: VR867M | D21: Po 12 kom | E21: VR867M | F21: PREMIUM M | G21: 18x23x10 | H21: 3858888689858 | I21: 1.11 | J21: 1.39
A22: 26 | B22: VR1759M | D22: Po 12 kom | E22: VR1759M | F22: PREMIUM M | G22: 18x23x10 | H22: 3858888689858 | I22: 1.11 | J22: 1.39
A23: 35 | B23: VR2946M | D23: Po 12 kom | E23: VR2946M | F23: PREMIUM M | G23: 18x23x10 | H23: 3858888689858 | I23: 1.11 | J23: 1.39
A24: 33 | B24: VR3895M | D24: Po 12 kom | E24: VR3895M | F24: PREMIUM M | G24: 18x23x10 | H24: 3858888689858 | I24: 1.11 | J24: 1.39
A25: 40 | B25: VR811M | D25: Po 12 kom | E25: VR811M | F25: PREMIUM M | G25: 18x23x10 | H25: 3858888689858 | I25: 1.11 | J25: 1.39
... A74: 66 | B74: VRKJM1058B | D74: Po 12 kom | E74: VRKJM1058B | F74: PREMIUM BOCA | G74: 12.8*36*8.2 | H74: 3858888689889 | I74: 1.16 | J74: 1.45
B75: VR10-31301B | D75: Po 12 kom | E75: VR10-31301B | F75: PREMIUM BOCA | G75: 12.8*36*8.2 | H75: 3858888689889 | I75: 1.16 | J75: 1.45
B76: VR10-31303B | D76: Po 12 kom | E76: VR10-31303B | F76: PREMIUM BOCA | G76: 12.8*36*8.2 | H76: 3858888689889 | I76: 1.16 | J76: 1.45
B77: VR10-31304B | D77: Po 12 kom | E77: VR10-31304B | F77: PREMIUM BOCA | G77: 12.8*36*8.2 | H77: 3858888689889 | I77: 1.16 | J77: 1.45
B78: VR10-31310B | D78: Po 12 kom | E78: VR10-31310B | F78: PREMIUM BOCA | G78: 12.8*36*8.2 | H78: 3858888689889 | I78: 1.16 | J78: 1.45
B79: VR10-31319B | D79: Po 12 kom | E79: VR10-31319B | F79: PREMIUM BOCA | G79: 12.8*36*8.2 | H79: 3858888689889 | I79: 1.16 | J79: 1.45
B80: VR10-31323B | D80: Po 12 kom | E80: VR10-31323B | F80: PREMIUM BOCA | G80: 12.8*36*8.2 | H80: 3858888689889 | I80: 1.16 | J80: 1.45
B82: REKAPITULACIJA NARUDŽBE | D82: Mueller
B83: Premium S | C83: =SUM(C2:C6) -> 0 | D83: 119544
B84: Premium M | C84: =SUM(C7:C28) -> 0 | D84: 119595
B85: Premium L | C85: =SUM(C29:C44) -> 0 | D85: 119653
B86: Premium XL | C86: =SUM(C45:C63) -> 0 | D86: 119662
B87: Premium BOCA | C87: =SUM(C64:C80) -> 0 | D87: 119624
B89: SLOVENIJA
B90: Vrsta | C90: Dimenzije | D90: Barcode | E90: VPC | F90: MPC
...

Sheet BASIC_UNICOLOR
A1: Pozicija polica | B1: Slika | C1: NARUDŽBA | D1: Naručivanje | E1: Šifra | F1: Naziv | G1: Dimenzija (cm) | H1: Barcode | I1: VPC | J1: MPC
D2: Po 12 kom | E2: VRYY1105K-M | F2: BASIC / UNICOLOR M | G2: 15*20*7 | H2: 3858888686086 | I2: 0.95 | J2: 1.19
D3: Po 12 kom | E3: VRYY1105B-M | F3: BASIC / UNICOLOR M | G3: 15*20*7 | H3: 3858888686086 | I3: 0.95 | J3: 1.19
D4: Po 12 kom | E4: VR14011L | F4: BASIC / UNICOLOR L | G4: 27*21*11 | H4: 3858888686093 | I4: 1.35 | J4: 1.69
D5: Po 12 kom | E5: VR14028L | F5: BASIC / UNICOLOR L | G5: 27*21*12 | H5: 3858888686093 | I5: 1.35 | J5: 1.69
D6: Po 12 kom | E6: VR14025XL | F6: BASIC / UNICOLOR XL | G6: 31*40*12 | H6: 3858888686109 | I6: 1.59 | J6: 1.99
D7: Po 12 kom | E7: VR14031XL | F7: BASIC / UNICOLOR XL | G7: 28*33*11 | H7: 3858888686109 | I7: 1.59 | J7: 1.99
D8: Po 12 kom | E8: VR12055XL | F8: BASIC / UNICOLOR XL | G8: 28*33*12 | H8: 3858888686109 | I8: 1.59 | J8: 1.99

Sheet OUT_OF_STOCK
A1: CRVENO | B1: SIVO | C1: LAST_SYNC
A2: ANG13604 | B2: CIM014 | C2: 46133.422
A3: ANG13607 | B3: CIM046
A4: ANG90353 | B4: CIM061
A5: ANG90354 | B5: CIM077
A6: ANG90355 | B6: CMP1206
A7: ANG90356 | B7: CMP1213
A8: ANG90357 | B8: CMP1214
A9: ANG90358 | B9: CMP1215
A10: ANG90359 | B10: CMP208
A11: ANG90360 | B11: CMP209
A12: ANG90361 | B12: CMP582
A13: ANG90362 | B13: CMP590
A14: ANG90363 | B14: CMP592
... A18: BAL001 | B18: CMP7093K
A19: BAL002
A20: BAL003
A21: BAL004
A22: BAL005
A23: BAL006
A24: BAL007
A25: BAL008
A26: BAL009
A27: BAL010
A28: BAL011
A29: BAL012
A30: BAL013
... A641: ZO026
